BEGIN:VCALENDAR
VERSION:2.0
PRODID:-//Mid-Atlantic District Church of the Brethren - ECPv6.15.20//NONSGML v1.0//EN
CALSCALE:GREGORIAN
METHOD:PUBLISH
X-ORIGINAL-URL:http://www.madcob.com
X-WR-CALDESC:Events for Mid-Atlantic District Church of the Brethren
REFRESH-INTERVAL;VALUE=DURATION:PT1H
X-Robots-Tag:noindex
X-PUBLISHED-TTL:PT1H
BEGIN:VTIMEZONE
TZID:America/New_York
BEGIN:DAYLIGHT
TZOFFSETFROM:-0500
TZOFFSETTO:-0400
TZNAME:EDT
DTSTART:20250309T070000
END:DAYLIGHT
BEGIN:STANDARD
TZOFFSETFROM:-0400
TZOFFSETTO:-0500
TZNAME:EST
DTSTART:20251102T060000
END:STANDARD
BEGIN:DAYLIGHT
TZOFFSETFROM:-0500
TZOFFSETTO:-0400
TZNAME:EDT
DTSTART:20260308T070000
END:DAYLIGHT
BEGIN:STANDARD
TZOFFSETFROM:-0400
TZOFFSETTO:-0500
TZNAME:EST
DTSTART:20261101T060000
END:STANDARD
BEGIN:DAYLIGHT
TZOFFSETFROM:-0500
TZOFFSETTO:-0400
TZNAME:EDT
DTSTART:20270314T070000
END:DAYLIGHT
BEGIN:STANDARD
TZOFFSETFROM:-0400
TZOFFSETTO:-0500
TZNAME:EST
DTSTART:20271107T060000
END:STANDARD
END:VTIMEZONE
BEGIN:VEVENT
DTSTART;TZID=America/New_York:20261009T190000
DTEND;TZID=America/New_York:20261010T150000
DTSTAMP:20260424T101239
CREATED:20260422T142514Z
LAST-MODIFIED:20260422T142649Z
UID:2602-1791572400-1791644400@www.madcob.com
SUMMARY:District Conference 2026
DESCRIPTION:2026 District Conference Announcement\n\nOctober 9 & 10\nCamp Mardela\n301 Deep Shore Rd.\, Denton\, MD 21629
URL:http://www.madcob.com/event/district-conference-2026/
LOCATION:Camp Mardela\, 301 Deep Shore Rd.\, Denton\, MD\, 21629\, United States
CATEGORIES:Mid-Atlantic District COB Sponsored
ORGANIZER;CN="Mid-Atlantic District":MAILTO:aamad@brethren.org
END:VEVENT
BEGIN:VEVENT
DTSTART;TZID=America/New_York:20261023T000000
DTEND;TZID=America/New_York:20261024T000000
DTSTAMP:20260424T101239
CREATED:20251021T191811Z
LAST-MODIFIED:20260302T165916Z
UID:2373-1792713600-1792800000@www.madcob.com
SUMMARY:2026 Pastor's Retreat
DESCRIPTION:REGISTRATION FORM\nto be held at Shepherd’s Spring\n16869 Taylors Landing Rd.\, Sharpsburg\, MD 21782-0369\nSponsored by the Mid-Atlantic District Spirituality and Congregational Life Ministry Team
URL:http://www.madcob.com/event/2026-pastors-retreat/
LOCATION:Shepherd’s Spring\, 16869 Taylors Landing Rd.\, Sharpsburg\, MD\, 21782\, United States
CATEGORIES:Mid-Atlantic District COB Sponsored
ORGANIZER;CN="Mid-Atlantic District":MAILTO:aamad@brethren.org
END:VEVENT
END:VCALENDAR