BEGIN:VCALENDAR
VERSION:2.0
PRODID:-//Mid-Atlantic District Church of the Brethren - ECPv6.15.18//NONSGML v1.0//EN
CALSCALE:GREGORIAN
METHOD:PUBLISH
X-WR-CALNAME:Mid-Atlantic District Church of the Brethren
X-ORIGINAL-URL:http://www.madcob.com
X-WR-CALDESC:Events for Mid-Atlantic District Church of the Brethren
REFRESH-INTERVAL;VALUE=DURATION:PT1H
X-Robots-Tag:noindex
X-PUBLISHED-TTL:PT1H
BEGIN:VTIMEZONE
TZID:America/New_York
BEGIN:DAYLIGHT
TZOFFSETFROM:-0500
TZOFFSETTO:-0400
TZNAME:EDT
DTSTART:20240310T070000
END:DAYLIGHT
BEGIN:STANDARD
TZOFFSETFROM:-0400
TZOFFSETTO:-0500
TZNAME:EST
DTSTART:20241103T060000
END:STANDARD
BEGIN:DAYLIGHT
TZOFFSETFROM:-0500
TZOFFSETTO:-0400
TZNAME:EDT
DTSTART:20250309T070000
END:DAYLIGHT
BEGIN:STANDARD
TZOFFSETFROM:-0400
TZOFFSETTO:-0500
TZNAME:EST
DTSTART:20251102T060000
END:STANDARD
BEGIN:DAYLIGHT
TZOFFSETFROM:-0500
TZOFFSETTO:-0400
TZNAME:EDT
DTSTART:20260308T070000
END:DAYLIGHT
BEGIN:STANDARD
TZOFFSETFROM:-0400
TZOFFSETTO:-0500
TZNAME:EST
DTSTART:20261101T060000
END:STANDARD
END:VTIMEZONE
BEGIN:VEVENT
DTSTART;TZID=America/New_York:20250927T180000
DTEND;TZID=America/New_York:20250927T180000
DTSTAMP:20260419T102802
CREATED:20250707T192736Z
LAST-MODIFIED:20250707T192736Z
UID:2237-1758996000-1758996000@www.madcob.com
SUMMARY:Concert by the Crestmen
DESCRIPTION:Saturday\, September 27\, 6 pm\nDownsville Church of the Brethren\n8228 Dam Number 4 Rd.\, Williamsport\, MD 21795
URL:http://www.madcob.com/event/concert-by-the-crestmen/
LOCATION:Downsville Church of the Brethren\, 8228 Dam Number 4 Rd.\, Williamsport\, MD\, 21795\, United States
CATEGORIES:Congregation Events
END:VEVENT
END:VCALENDAR