BEGIN:VCALENDAR
VERSION:2.0
PRODID:-//Mid-Atlantic District Church of the Brethren - ECPv6.15.18//NONSGML v1.0//EN
CALSCALE:GREGORIAN
METHOD:PUBLISH
X-ORIGINAL-URL:http://www.madcob.com
X-WR-CALDESC:Events for Mid-Atlantic District Church of the Brethren
REFRESH-INTERVAL;VALUE=DURATION:PT1H
X-Robots-Tag:noindex
X-PUBLISHED-TTL:PT1H
BEGIN:VTIMEZONE
TZID:America/New_York
BEGIN:DAYLIGHT
TZOFFSETFROM:-0500
TZOFFSETTO:-0400
TZNAME:EDT
DTSTART:20240310T070000
END:DAYLIGHT
BEGIN:STANDARD
TZOFFSETFROM:-0400
TZOFFSETTO:-0500
TZNAME:EST
DTSTART:20241103T060000
END:STANDARD
BEGIN:DAYLIGHT
TZOFFSETFROM:-0500
TZOFFSETTO:-0400
TZNAME:EDT
DTSTART:20250309T070000
END:DAYLIGHT
BEGIN:STANDARD
TZOFFSETFROM:-0400
TZOFFSETTO:-0500
TZNAME:EST
DTSTART:20251102T060000
END:STANDARD
BEGIN:DAYLIGHT
TZOFFSETFROM:-0500
TZOFFSETTO:-0400
TZNAME:EDT
DTSTART:20260308T070000
END:DAYLIGHT
BEGIN:STANDARD
TZOFFSETFROM:-0400
TZOFFSETTO:-0500
TZNAME:EST
DTSTART:20261101T060000
END:STANDARD
END:VTIMEZONE
BEGIN:VEVENT
DTSTART;TZID=America/New_York:20250817T140000
DTEND;TZID=America/New_York:20250817T150000
DTSTAMP:20260419T102759
CREATED:20250707T185411Z
LAST-MODIFIED:20250707T185411Z
UID:2232-1755439200-1755442800@www.madcob.com
SUMMARY:Meet and Greet
DESCRIPTION:With District Executive Minister Douglas Veal\nSunday\, August 17\, 2 PM\nMoler Avenue Church of the Brethren\n136 E. Moler Ave.\, Martinsburg\, WV\nArea 8 DEM Meet and Greet at Moler Ave. COB
URL:http://www.madcob.com/event/meet-and-greet/
LOCATION:Moler Ave. Church of the Brethren\, 136 E. Moler Ave.\, Martinsburg\, WV\, 25404\, United States
CATEGORIES:Congregation Events,Mid-Atlantic District COB Sponsored
END:VEVENT
BEGIN:VEVENT
DTSTART;TZID=America/New_York:20250824T180000
DTEND;TZID=America/New_York:20250824T193000
DTSTAMP:20260419T102759
CREATED:20250819T163556Z
LAST-MODIFIED:20250819T164613Z
UID:2282-1756058400-1756063800@www.madcob.com
SUMMARY:Daryl Mosley Concert
DESCRIPTION:Sunday\, August 24\, 6pm\nMeadow Branch Church of the Brethren\nDaryl Mosley Concert
URL:http://www.madcob.com/event/daryl-mosley-concert/
END:VEVENT
BEGIN:VEVENT
DTSTART;TZID=America/New_York:20250828T110000
DTEND;TZID=America/New_York:20250828T210000
DTSTAMP:20260419T102759
CREATED:20250819T171119Z
LAST-MODIFIED:20250819T171119Z
UID:2287-1756378800-1756414800@www.madcob.com
SUMMARY:Camp Mardela Ice Cream Fundraiser
DESCRIPTION:Thursday\, August 28\, 11am – 9pm\n15% of your purchase at\nVanderwende’s Farm Fresh Ice Cream\nwill benefit Camp Mardela\nIce Cream Fundraiser
URL:http://www.madcob.com/event/camp-mardela-ice-cream-fundraiser/
CATEGORIES:Camp Event
END:VEVENT
BEGIN:VEVENT
DTSTART;TZID=America/New_York:20250829T000000
DTEND;TZID=America/New_York:20250901T000000
DTSTAMP:20260419T102759
CREATED:20250819T165637Z
LAST-MODIFIED:20250819T165637Z
UID:2285-1756425600-1756684800@www.madcob.com
SUMMARY:Camp Mardela Family Camp
DESCRIPTION:August 29 – Sept. 1\nCamp Mardela Family Camp
URL:http://www.madcob.com/event/camp-mardela-family-camp/
LOCATION:Camp Mardela\, 301 Deep Shore Rd.\, Denton\, MD\, 21629\, United States
CATEGORIES:Camp Event
ORGANIZER;CN="Camp Mardela":MAILTO:campmardela@gmail.com
END:VEVENT
END:VCALENDAR