BEGIN:VCALENDAR
VERSION:2.0
PRODID:-//Mid-Atlantic District Church of the Brethren - ECPv6.15.20//NONSGML v1.0//EN
CALSCALE:GREGORIAN
METHOD:PUBLISH
X-ORIGINAL-URL:http://www.madcob.com
X-WR-CALDESC:Events for Mid-Atlantic District Church of the Brethren
REFRESH-INTERVAL;VALUE=DURATION:PT1H
X-Robots-Tag:noindex
X-PUBLISHED-TTL:PT1H
BEGIN:VTIMEZONE
TZID:America/New_York
BEGIN:DAYLIGHT
TZOFFSETFROM:-0500
TZOFFSETTO:-0400
TZNAME:EDT
DTSTART:20240310T070000
END:DAYLIGHT
BEGIN:STANDARD
TZOFFSETFROM:-0400
TZOFFSETTO:-0500
TZNAME:EST
DTSTART:20241103T060000
END:STANDARD
BEGIN:DAYLIGHT
TZOFFSETFROM:-0500
TZOFFSETTO:-0400
TZNAME:EDT
DTSTART:20250309T070000
END:DAYLIGHT
BEGIN:STANDARD
TZOFFSETFROM:-0400
TZOFFSETTO:-0500
TZNAME:EST
DTSTART:20251102T060000
END:STANDARD
BEGIN:DAYLIGHT
TZOFFSETFROM:-0500
TZOFFSETTO:-0400
TZNAME:EDT
DTSTART:20260308T070000
END:DAYLIGHT
BEGIN:STANDARD
TZOFFSETFROM:-0400
TZOFFSETTO:-0500
TZNAME:EST
DTSTART:20261101T060000
END:STANDARD
END:VTIMEZONE
BEGIN:VEVENT
DTSTART;TZID=America/New_York:20250405T180000
DTEND;TZID=America/New_York:20250405T193000
DTSTAMP:20260424T135231
CREATED:20250305T150925Z
LAST-MODIFIED:20250305T151717Z
UID:2145-1743876000-1743881400@www.madcob.com
SUMMARY:Mid-Atlantic District Disaster Response Dinner
DESCRIPTION:Saturday\, April 5\n6:00 pm\nBush Creek Church of the Brethren\n4821-A Green Valley Rd.\, Monrovia\, MD 21770\nCo-hosted by Bush Creek and Union Bridge Church of the Brethren\nAuction Benefit Dinner Flyer 2025
URL:http://www.madcob.com/event/mid-atlantic-district-disaster-response-dinner-2/
LOCATION:Bush Creek Church of the Brethren\, 4821-A Green Valley Rd.\, Monrovia\, MD\, 21770\, United States
CATEGORIES:Congregation Events,Mid-Atlantic District COB Sponsored
END:VEVENT
BEGIN:VEVENT
DTSTART;TZID=America/New_York:20250412T080000
DTEND;TZID=America/New_York:20250412T130000
DTSTAMP:20260424T135231
CREATED:20250402T182410Z
LAST-MODIFIED:20250402T183032Z
UID:2186-1744444800-1744462800@www.madcob.com
SUMMARY:Camp Mardela Benefit Auction
DESCRIPTION:Saturday\, April 12\, 8am to 1pm\n301 Deep Shore Rd.\nCamp Mardela Benefit Auction
URL:http://www.madcob.com/event/camp-mardela-benefit-auction-3/
LOCATION:Camp Mardela\, 301 Deep Shore Rd.\, Denton\, MD\, 21629\, United States
CATEGORIES:Camp Event
ORGANIZER;CN="Camp Mardela":MAILTO:campmardela@gmail.com
END:VEVENT
BEGIN:VEVENT
DTSTART;TZID=America/New_York:20250420T080000
DTEND;TZID=America/New_York:20250420T170000
DTSTAMP:20260424T135231
CREATED:20250402T184818Z
LAST-MODIFIED:20250402T184818Z
UID:2190-1745136000-1745168400@www.madcob.com
SUMMARY:Easter "Sonrise" Service at Camp Mardela
DESCRIPTION:Sunday\, April 20\, 7:30am to 8:30am\n301 Deepshore Rd.\, Denton\, MD 21629\nEaster “Sonrise” Service at Camp Mardela
URL:http://www.madcob.com/event/easter-sonrise-service-at-camp-mardela/
LOCATION:Camp Mardela\, 301 Deep Shore Rd.\, Denton\, MD\, 21629\, United States
CATEGORIES:Camp Event
ORGANIZER;CN="Camp Mardela":MAILTO:campmardela@gmail.com
END:VEVENT
BEGIN:VEVENT
DTSTART;TZID=America/New_York:20250429T183000
DTEND;TZID=America/New_York:20250429T203000
DTSTAMP:20260424T135231
CREATED:20250401T170403Z
LAST-MODIFIED:20250401T170618Z
UID:2177-1745951400-1745958600@www.madcob.com
SUMMARY:CPR/AED Class
DESCRIPTION:CPR/AED Class\nGrossnickle COB\n11301 Meeting House Rd.\nMyersville\, MD 21773\nCPR AED poster PDF
URL:http://www.madcob.com/event/2177/
LOCATION:Grossnickle Church of the Brethren\, 11301 Meeting House Rd.\, Myersville\, MD\, 21773\, United States
CATEGORIES:Congregation Events
END:VEVENT
END:VCALENDAR